BEGIN:VCALENDAR
VERSION:2.0
PRODID:-//daytonhabitat.org//NONSGML kigkonsult.se iCalcreator 2.30.10//
CALSCALE:GREGORIAN
METHOD:PUBLISH
UID:2a6d46d8-8071-40b6-b704-ef5becf00613
X-WR-CALDESC:The Habitat for Humanity of Greater Dayton ReStore locations w
 ill be closed in observance of the 4th of July.
X-WR-RELCALID:cb36fb07e35307967c50bf3793dc1677
X-WR-TIMEZONE:America/New_York
BEGIN:VTIMEZONE
TZID:America/New_York
BEGIN:STANDARD
TZNAME:EST
DTSTART:20261101T020000
TZOFFSETFROM:-0400
TZOFFSETTO:-0500
RDATE:20271107T020000
RDATE:20281105T020000
END:STANDARD
BEGIN:DAYLIGHT
TZNAME:EDT
DTSTART:20270314T020000
TZOFFSETFROM:-0500
TZOFFSETTO:-0400
RDATE:20280312T020000
END:DAYLIGHT
END:VTIMEZONE
BEGIN:VEVENT
UID:451011aa-cae0-4b3d-b549-3fc8859b4ce5
DTSTAMP:20260425T195902Z
DESCRIPTION:The Habitat for Humanity of Greater Dayton ReStore locations wi
 ll be closed in observance of the 4th of July.
DTSTART;TZID=America/New_York:20270706T060000
DTEND;TZID=America/New_York:20270706T060001
LOCATION:
SUMMARY:Habitat for Humanity of Greater Dayton ReStore locations- CLOSED
END:VEVENT
END:VCALENDAR
