BEGIN:VCALENDAR
VERSION:2.0
PRODID:-//daytonhabitat.org//NONSGML kigkonsult.se iCalcreator 2.30.10//
CALSCALE:GREGORIAN
METHOD:PUBLISH
UID:9c893993-0862-4ac5-a705-ce17820c192b
X-WR-CALDESC:The Habitat for Humanity of Greater Dayton Office will be clos
 ed in observance of the 4th of July.
X-WR-RELCALID:a78bf8d65d2e1c4e0c40d6a52862a0cb
X-WR-TIMEZONE:America/New_York
BEGIN:VTIMEZONE
TZID:America/New_York
BEGIN:STANDARD
TZNAME:EST
DTSTART:20261101T020000
TZOFFSETFROM:-0400
TZOFFSETTO:-0500
RDATE:20271107T020000
RDATE:20281105T020000
END:STANDARD
BEGIN:DAYLIGHT
TZNAME:EDT
DTSTART:20270314T020000
TZOFFSETFROM:-0500
TZOFFSETTO:-0400
RDATE:20280312T020000
END:DAYLIGHT
END:VTIMEZONE
BEGIN:VEVENT
UID:991ae38e-4e08-46ca-bc61-76ae4857e240
DTSTAMP:20260425T195450Z
DESCRIPTION:The Habitat for Humanity of Greater Dayton Office will be close
 d in observance of the 4th of July.
DTSTART;TZID=America/New_York:20270705T060000
DTEND;TZID=America/New_York:20270705T060001
LOCATION:
SUMMARY:Habitat for Humanity of Greater Dayton Office- CLOSED
END:VEVENT
END:VCALENDAR
