BEGIN:VCALENDAR
VERSION:2.0
PRODID:-//daytonhabitat.org//NONSGML kigkonsult.se iCalcreator 2.30.10//
CALSCALE:GREGORIAN
METHOD:PUBLISH
UID:1a923814-f13f-4c80-863e-14d03f87b16a
X-WR-CALDESC:The Habitat for Humanity of Greater Dayton ReStores will be cl
 osed in observance of Juneteenth.
X-WR-RELCALID:c7206aa3ac6d36dec84b9f5f9c2ba4c6
X-WR-TIMEZONE:America/New_York
BEGIN:VTIMEZONE
TZID:America/New_York
BEGIN:STANDARD
TZNAME:EST
DTSTART:20261101T020000
TZOFFSETFROM:-0400
TZOFFSETTO:-0500
RDATE:20271107T020000
RDATE:20281105T020000
END:STANDARD
BEGIN:DAYLIGHT
TZNAME:EDT
DTSTART:20270314T020000
TZOFFSETFROM:-0500
TZOFFSETTO:-0400
RDATE:20280312T020000
END:DAYLIGHT
END:VTIMEZONE
BEGIN:VEVENT
UID:ddc0a649-7a66-4a0d-bd73-b28227ec5231
DTSTAMP:20260425T182732Z
DESCRIPTION:The Habitat for Humanity of Greater Dayton ReStores will be clo
 sed in observance of Juneteenth.
DTSTART;TZID=America/New_York:20270619T060000
DTEND;TZID=America/New_York:20270619T060001
LOCATION:
SUMMARY:Habitat for Humanity of Greater Dayton ReStores- CLOSED
END:VEVENT
END:VCALENDAR
