BEGIN:VCALENDAR
VERSION:2.0
PRODID:-//daytonhabitat.org//NONSGML kigkonsult.se iCalcreator 2.30.10//
CALSCALE:GREGORIAN
METHOD:PUBLISH
UID:9924c6dd-f5e1-413f-b00b-6dcfe2ecb6cf
X-WR-CALDESC:The Habitat for Humanity of Greater Dayton Office will be clos
 ed in observance of Juneteenth.
X-WR-RELCALID:a43c8d2ee5fc59fa6983f57aff2c46e5
X-WR-TIMEZONE:America/New_York
BEGIN:VTIMEZONE
TZID:America/New_York
BEGIN:STANDARD
TZNAME:EST
DTSTART:20261101T020000
TZOFFSETFROM:-0400
TZOFFSETTO:-0500
RDATE:20271107T020000
RDATE:20281105T020000
END:STANDARD
BEGIN:DAYLIGHT
TZNAME:EDT
DTSTART:20270314T020000
TZOFFSETFROM:-0500
TZOFFSETTO:-0400
RDATE:20280312T020000
END:DAYLIGHT
END:VTIMEZONE
BEGIN:VEVENT
UID:86d5b13d-e325-4be4-9287-ef474ea3fe05
DTSTAMP:20260425T182209Z
DESCRIPTION:The Habitat for Humanity of Greater Dayton Office will be close
 d in observance of Juneteenth.
DTSTART;TZID=America/New_York:20270618T060000
DTEND;TZID=America/New_York:20270618T060001
LOCATION:
SUMMARY:Habitat for Humanity of Greater Dayton Office- CLOSED
END:VEVENT
END:VCALENDAR
