BEGIN:VCALENDAR
VERSION:2.0
PRODID:-//daytonhabitat.org//NONSGML kigkonsult.se iCalcreator 2.30.10//
CALSCALE:GREGORIAN
METHOD:PUBLISH
UID:33d6a1e0-d7ee-4980-9a86-f9dfaab5c8a7
X-WR-CALDESC:The Habitat for Humanity of Greater Dayton Office will be clos
 ed in observance of the 4th of July.
X-WR-RELCALID:d9bb3f48290bd40fd195be66ab8accde
X-WR-TIMEZONE:America/New_York
BEGIN:VTIMEZONE
TZID:America/New_York
BEGIN:STANDARD
TZNAME:EST
DTSTART:20251102T020000
TZOFFSETFROM:-0400
TZOFFSETTO:-0500
RDATE:20261101T020000
RDATE:20271107T020000
END:STANDARD
BEGIN:DAYLIGHT
TZNAME:EDT
DTSTART:20260308T020000
TZOFFSETFROM:-0500
TZOFFSETTO:-0400
RDATE:20270314T020000
END:DAYLIGHT
END:VTIMEZONE
BEGIN:VEVENT
UID:798f15e2-33f3-4a4c-a032-974baf98e5e4
DTSTAMP:20260425T021036Z
DESCRIPTION:The Habitat for Humanity of Greater Dayton Office will be close
 d in observance of the 4th of July.
DTSTART;TZID=America/New_York:20260703T060000
DTEND;TZID=America/New_York:20260703T060001
LOCATION:
SUMMARY:Habitat for Humanity of Greater Dayton Office- CLOSED
END:VEVENT
END:VCALENDAR
