BEGIN:VCALENDAR
VERSION:2.0
PRODID:-//daytonhabitat.org//NONSGML kigkonsult.se iCalcreator 2.30.10//
CALSCALE:GREGORIAN
METHOD:PUBLISH
UID:3c4a8d4a-87c0-4cfd-8485-3966e299656a
X-WR-CALDESC:The Habitat for Humanity of Greater Dayton Office and ReStores
  will be closed in observance of Juneteenth. Regular hours will resume tom
 orrow.
X-WR-RELCALID:e642add73ca876c642c870f33aba7d32
X-WR-TIMEZONE:America/New_York
BEGIN:VTIMEZONE
TZID:America/New_York
BEGIN:STANDARD
TZNAME:EST
DTSTART:20251102T020000
TZOFFSETFROM:-0400
TZOFFSETTO:-0500
RDATE:20261101T020000
RDATE:20271107T020000
END:STANDARD
BEGIN:DAYLIGHT
TZNAME:EDT
DTSTART:20260308T020000
TZOFFSETFROM:-0500
TZOFFSETTO:-0400
RDATE:20270314T020000
END:DAYLIGHT
END:VTIMEZONE
BEGIN:VEVENT
UID:7921374c-1cf7-4372-a297-df82446c2e4e
DTSTAMP:20260424T204950Z
DESCRIPTION:The Habitat for Humanity of Greater Dayton Office and ReStores 
 will be closed in observance of Juneteenth. Regular hours will resume tomo
 rrow.
DTSTART;TZID=America/New_York:20260619T060000
DTEND;TZID=America/New_York:20260619T060001
LOCATION:
SUMMARY:Habitat for Humanity of Greater Dayton Office and ReStores- CLOSED
END:VEVENT
END:VCALENDAR
