BEGIN:VCALENDAR
VERSION:2.0
PRODID:-//daytonhabitat.org//NONSGML kigkonsult.se iCalcreator 2.30.10//
CALSCALE:GREGORIAN
METHOD:PUBLISH
UID:6290b3e6-54cc-4529-a9cc-21fe6511b05e
X-WR-CALDESC:The Habitat for Humanity of Greater Dayton ReStore will be clo
 sed in observance of Memorial Day.
X-WR-RELCALID:58ff12c7c0e5406fbfb10b22ea8ce9ea
X-WR-TIMEZONE:America/New_York
BEGIN:VTIMEZONE
TZID:America/New_York
BEGIN:STANDARD
TZNAME:EST
DTSTART:20251102T020000
TZOFFSETFROM:-0400
TZOFFSETTO:-0500
RDATE:20261101T020000
RDATE:20271107T020000
END:STANDARD
BEGIN:DAYLIGHT
TZNAME:EDT
DTSTART:20260308T020000
TZOFFSETFROM:-0500
TZOFFSETTO:-0400
RDATE:20270314T020000
END:DAYLIGHT
END:VTIMEZONE
BEGIN:VEVENT
UID:7c414bde-9699-4293-a344-9ea63e9c3d8f
DTSTAMP:20260424T232658Z
DESCRIPTION:The Habitat for Humanity of Greater Dayton ReStore will be clos
 ed in observance of Memorial Day.
DTSTART;TZID=America/New_York:20260526T060000
DTEND;TZID=America/New_York:20260526T060001
LOCATION:
SUMMARY:Habitat for Humanity of Greater Dayton ReStore- CLOSED
END:VEVENT
END:VCALENDAR
