BEGIN:VCALENDAR
VERSION:2.0
PRODID:-//daytonhabitat.org//NONSGML kigkonsult.se iCalcreator 2.30.10//
CALSCALE:GREGORIAN
METHOD:PUBLISH
UID:7732d275-2e8a-4cd2-ae55-c41401788c5e
X-WR-CALDESC:Help us raise the roof on our 2026 Women Build during our firs
 t week of volunteerism! During this week\, volunteers will be completing t
 he remaining framing of the house- including the trusses! Priority Registr
 ation is offered to those attending our 2026 Women Build Kick-Off Event. C
 lick the link to register for the kick-off or check back here on April 27t
 h to volunteer!
X-WR-RELCALID:0c08bf717405bb1057b527b1a1cabef3
X-WR-TIMEZONE:America/New_York
BEGIN:VTIMEZONE
TZID:America/New_York
BEGIN:STANDARD
TZNAME:EST
DTSTART:20251102T020000
TZOFFSETFROM:-0400
TZOFFSETTO:-0500
RDATE:20261101T020000
RDATE:20271107T020000
END:STANDARD
BEGIN:DAYLIGHT
TZNAME:EDT
DTSTART:20260308T020000
TZOFFSETFROM:-0500
TZOFFSETTO:-0400
RDATE:20270314T020000
END:DAYLIGHT
END:VTIMEZONE
BEGIN:VEVENT
UID:6d815045-d907-41bb-9a46-ea2d9be6db10
DTSTAMP:20260424T231808Z
DESCRIPTION:Help us raise the roof on our 2026 Women Build during our first
  week of volunteerism! During this week\, volunteers will be completing th
 e remaining framing of the house- including the trusses! Priority Registra
 tion is offered to those attending our 2026 Women Build Kick-Off Event. Cl
 ick the link to register for the kick-off or check back here on April 27th
  to volunteer!
DTSTART;TZID=America/New_York:20260519T060000
DTEND;TZID=America/New_York:20260523T060001
LOCATION:Location Coming Soon
SUMMARY:2026 Women Build Raise the Roof Volunteer Week
END:VEVENT
END:VCALENDAR
