BEGIN:VCALENDAR
VERSION:2.0
PRODID:-//daytonhabitat.org//NONSGML kigkonsult.se iCalcreator 2.30.10//
CALSCALE:GREGORIAN
METHOD:PUBLISH
UID:bacc3a3d-7e50-4755-9702-25033a21efdb
X-WR-CALDESC:Be the FIRST volunteer on our 2026 Women Build during our excl
 usive She Frames The Future volunteer event! Priority Registration is offe
 red to those attending our 2026 Women Build Kick-Off Event. Click the link
  to register for the kick-off or check back here on April 27th to voluntee
 r!
X-WR-RELCALID:9f6fff94fcaafc26170c258f75f11a62
X-WR-TIMEZONE:America/New_York
BEGIN:VTIMEZONE
TZID:America/New_York
BEGIN:STANDARD
TZNAME:EST
DTSTART:20251102T020000
TZOFFSETFROM:-0400
TZOFFSETTO:-0500
RDATE:20261101T020000
RDATE:20271107T020000
END:STANDARD
BEGIN:DAYLIGHT
TZNAME:EDT
DTSTART:20260308T020000
TZOFFSETFROM:-0500
TZOFFSETTO:-0400
RDATE:20270314T020000
END:DAYLIGHT
END:VTIMEZONE
BEGIN:VEVENT
UID:9bfb0934-f3c9-41eb-85cc-f9ea3a8c6855
DTSTAMP:20260424T232127Z
DESCRIPTION:Be the FIRST volunteer on our 2026 Women Build during our exclu
 sive She Frames The Future volunteer event! Priority Registration is offer
 ed to those attending our 2026 Women Build Kick-Off Event. Click the link 
 to register for the kick-off or check back here on April 27th to volunteer
 !
DTSTART;TZID=America/New_York:20260515T120000
DTEND;TZID=America/New_York:20260515T160000
LOCATION:Location Coming Soon
SUMMARY:She Frames the Future Volunteer Event
END:VEVENT
END:VCALENDAR
