BEGIN:VCALENDAR
VERSION:2.0
PRODID:-//daytonhabitat.org//NONSGML kigkonsult.se iCalcreator 2.30.10//
CALSCALE:GREGORIAN
METHOD:PUBLISH
UID:0632b657-857f-49ac-8623-7f7e9a947c3e
X-WR-CALDESC:Join Habitat for Humanity of Greater Dayton as we kick off our
  2026 PNC Build! Attendees will have the opportunity to meet the future ho
 mebuyer\, hear from the partners who made this possible\, and learn how th
 ey can get involved on the build site. You don't want to miss this event! 
 \n
X-WR-RELCALID:f814d783099e8a504556e6c77ca3339c
X-WR-TIMEZONE:America/New_York
BEGIN:VTIMEZONE
TZID:America/New_York
BEGIN:STANDARD
TZNAME:EST
DTSTART:20251102T020000
TZOFFSETFROM:-0400
TZOFFSETTO:-0500
RDATE:20261101T020000
RDATE:20271107T020000
END:STANDARD
BEGIN:DAYLIGHT
TZNAME:EDT
DTSTART:20260308T020000
TZOFFSETFROM:-0500
TZOFFSETTO:-0400
RDATE:20270314T020000
END:DAYLIGHT
END:VTIMEZONE
BEGIN:VEVENT
UID:9553d33c-8c68-4d8d-bd81-22f6dd5757f1
DTSTAMP:20260424T205700Z
DESCRIPTION:Join Habitat for Humanity of Greater Dayton as we kick off our 
 2026 PNC Build! Attendees will have the opportunity to meet the future hom
 ebuyer\, hear from the partners who made this possible\, and learn how the
 y can get involved on the build site. You don't want to miss this event! 
 \n
DTSTART;TZID=America/New_York:20260508T120000
DTEND;TZID=America/New_York:20260508T130000
LOCATION:617 Miami Chapel Rd.\, Dayton\, OH 45417 US
SUMMARY:PNC Build Groundbreaking
END:VEVENT
END:VCALENDAR
