BEGIN:VCALENDAR
VERSION:2.0
PRODID:-//daytonhabitat.org//NONSGML kigkonsult.se iCalcreator 2.30.10//
CALSCALE:GREGORIAN
METHOD:PUBLISH
UID:8833ff92-7b09-48ed-b49e-509510d35f76
X-WR-CALDESC:The Habitat for Humanity of Greater Dayton Office and ReStores
  will be closed in observance of Good Friday. Regular hours will resume to
 morrow.
X-WR-RELCALID:f2a9a9d7ea9897275b704e334b22b760
X-WR-TIMEZONE:America/New_York
BEGIN:VTIMEZONE
TZID:America/New_York
BEGIN:STANDARD
TZNAME:EST
DTSTART:20251102T020000
TZOFFSETFROM:-0400
TZOFFSETTO:-0500
RDATE:20261101T020000
END:STANDARD
BEGIN:DAYLIGHT
TZNAME:EDT
DTSTART:20260308T020000
TZOFFSETFROM:-0500
TZOFFSETTO:-0400
RDATE:20270314T020000
END:DAYLIGHT
END:VTIMEZONE
BEGIN:VEVENT
UID:93f8da66-0a0f-4d0e-92d5-d46bb9e28dfe
DTSTAMP:20260424T221437Z
DESCRIPTION:The Habitat for Humanity of Greater Dayton Office and ReStores 
 will be closed in observance of Good Friday. Regular hours will resume tom
 orrow.
DTSTART;TZID=America/New_York:20260403T060000
DTEND;TZID=America/New_York:20260403T060001
LOCATION:
SUMMARY:Habitat for Humanity of Greater Dayton Office and ReStores- CLOSED
END:VEVENT
END:VCALENDAR
