BEGIN:VCALENDAR
VERSION:2.0
PRODID:-//daytonhabitat.org//NONSGML kigkonsult.se iCalcreator 2.30.10//
CALSCALE:GREGORIAN
METHOD:PUBLISH
UID:e9b9cb40-1e6a-4340-859a-0e819e13ab74
X-WR-CALDESC:Join Habitat for Humanity of Greater Dayton as we celebrate Ka
 Cey's hard work during our 2026 Faith Build Dedication Ceremony!
X-WR-RELCALID:caa2535038d8a14af6e75a25be9e00b5
X-WR-TIMEZONE:America/New_York
BEGIN:VTIMEZONE
TZID:America/New_York
BEGIN:STANDARD
TZNAME:EST
DTSTART:20251102T020000
TZOFFSETFROM:-0400
TZOFFSETTO:-0500
RDATE:20261101T020000
END:STANDARD
BEGIN:DAYLIGHT
TZNAME:EDT
DTSTART:20260308T020000
TZOFFSETFROM:-0500
TZOFFSETTO:-0400
RDATE:20270314T020000
END:DAYLIGHT
END:VTIMEZONE
BEGIN:VEVENT
UID:20703d6b-2094-4bac-a32b-6bdd6332f42d
DTSTAMP:20260424T233352Z
DESCRIPTION:Join Habitat for Humanity of Greater Dayton as we celebrate KaC
 ey's hard work during our 2026 Faith Build Dedication Ceremony!
DTSTART;TZID=America/New_York:20260320T120000
DTEND;TZID=America/New_York:20260320T130000
LOCATION:722 N 9th St. \, Miamisburg\, OH 45342 US
SUMMARY:Faith Build Home Dedication
END:VEVENT
END:VCALENDAR
