BEGIN:VCALENDAR
VERSION:2.0
PRODID:-//daytonhabitat.org//NONSGML kigkonsult.se iCalcreator 2.30.10//
CALSCALE:GREGORIAN
METHOD:PUBLISH
UID:3f256a36-0b67-4880-b572-d91482ddfb8a
X-WR-CALDESC:Join us in the Fairborn Library meeting room to learn about Ha
 bitat for Humanity opportunities for Fairborn!\n\nAt the request of our cu
 rious citizens\, Habitat for Humanity of Greater Dayton will present infor
 mation about their organization and answer our questions! Learn how they p
 rovide affordable\, energy-efficient homes to those in need\, and what opp
 ortunities exist for Fairborn! The event will take place in the downstairs
  meeting room at the Fairborn Community Library. Tickets are not required\
 , but they are free\, and pre-registration will help us prepare.
X-WR-RELCALID:632eb80b81c5ea3771c4900df40df207
X-WR-TIMEZONE:America/New_York
BEGIN:VTIMEZONE
TZID:America/New_York
BEGIN:STANDARD
TZNAME:EST
DTSTART:20251102T020000
TZOFFSETFROM:-0400
TZOFFSETTO:-0500
RDATE:20261101T020000
END:STANDARD
BEGIN:DAYLIGHT
TZNAME:EDT
DTSTART:20250309T020000
TZOFFSETFROM:-0500
TZOFFSETTO:-0400
RDATE:20260308T020000
RDATE:20270314T020000
END:DAYLIGHT
END:VTIMEZONE
BEGIN:VEVENT
UID:2c791605-27dc-40d9-8961-cf167d2c290a
DTSTAMP:20260424T232724Z
DESCRIPTION:Join us in the Fairborn Library meeting room to learn about Hab
 itat for Humanity opportunities for Fairborn!\n\nAt the request of our cur
 ious citizens\, Habitat for Humanity of Greater Dayton will present inform
 ation about their organization and answer our questions! Learn how they pr
 ovide affordable\, energy-efficient homes to those in need\, and what oppo
 rtunities exist for Fairborn! The event will take place in the downstairs 
 meeting room at the Fairborn Community Library. Tickets are not required\,
  but they are free\, and pre-registration will help us prepare.
DTSTART;TZID=America/New_York:20260307T130000
DTEND;TZID=America/New_York:20260307T140000
LOCATION:1 East Main Street\, Fairborn\, OH 45324 US
SUMMARY:Learn More About Habitat for Humanity at the Fairborn Library
END:VEVENT
END:VCALENDAR
