BEGIN:VCALENDAR
VERSION:2.0
PRODID:-//daytonhabitat.org//NONSGML kigkonsult.se iCalcreator 2.30.10//
CALSCALE:GREGORIAN
METHOD:PUBLISH
UID:0c7a7c4c-53d8-4235-a4b8-6f3c6e96ce95
X-WR-CALDESC:Join Habitat for Humanity and Springfield-Clark Career Technol
 ogy Center to preview the new partnership. This event is by invitation onl
 y.
X-WR-RELCALID:2a54ca4839d3dea0c905df8c7b707abe
X-WR-TIMEZONE:America/New_York
BEGIN:VTIMEZONE
TZID:America/New_York
BEGIN:STANDARD
TZNAME:EST
DTSTART:20251102T020000
TZOFFSETFROM:-0400
TZOFFSETTO:-0500
RDATE:20261101T020000
END:STANDARD
BEGIN:DAYLIGHT
TZNAME:EDT
DTSTART:20250309T020000
TZOFFSETFROM:-0500
TZOFFSETTO:-0400
RDATE:20260308T020000
RDATE:20270314T020000
END:DAYLIGHT
END:VTIMEZONE
BEGIN:VEVENT
UID:675410f8-4471-4648-bf1b-7107592d4362
DTSTAMP:20260425T004817Z
DESCRIPTION:Join Habitat for Humanity and Springfield-Clark Career Technolo
 gy Center to preview the new partnership. This event is by invitation only
 .
DTSTART;TZID=America/New_York:20260226T120000
DTEND;TZID=America/New_York:20260226T130000
LOCATION:1901 Selma Rd.\, Springfield\, OH 45505 US
SUMMARY:Habitat + CTC: Partnership Preview
END:VEVENT
END:VCALENDAR
