BEGIN:VCALENDAR
VERSION:2.0
PRODID:-//daytonhabitat.org//NONSGML kigkonsult.se iCalcreator 2.30.10//
CALSCALE:GREGORIAN
METHOD:PUBLISH
UID:e6abaf9d-8aec-4ba0-994a-b007e615d2c6
X-WR-CALDESC:The Habitat for Humanity of Greater Dayton ReStores will be cl
 osed in observance of Presidents' Day.
X-WR-RELCALID:1194fdc93f4cdcf402cf067a9d3dbd06
X-WR-TIMEZONE:America/New_York
BEGIN:VTIMEZONE
TZID:America/New_York
BEGIN:STANDARD
TZNAME:EST
DTSTART:20251102T020000
TZOFFSETFROM:-0400
TZOFFSETTO:-0500
RDATE:20261101T020000
END:STANDARD
BEGIN:DAYLIGHT
TZNAME:EDT
DTSTART:20250309T020000
TZOFFSETFROM:-0500
TZOFFSETTO:-0400
RDATE:20260308T020000
RDATE:20270314T020000
END:DAYLIGHT
END:VTIMEZONE
BEGIN:VEVENT
UID:c3706ad1-0574-4189-8c7b-38b4dc3f8867
DTSTAMP:20260425T003930Z
DESCRIPTION:The Habitat for Humanity of Greater Dayton ReStores will be clo
 sed in observance of Presidents' Day.
DTSTART;TZID=America/New_York:20260217T060000
DTEND;TZID=America/New_York:20260217T060001
LOCATION:
SUMMARY:Habitat for Humanity of Greater Dayton ReStores- CLOSED
END:VEVENT
END:VCALENDAR
