BEGIN:VCALENDAR
VERSION:2.0
PRODID:-//daytonhabitat.org//NONSGML kigkonsult.se iCalcreator 2.30.10//
CALSCALE:GREGORIAN
METHOD:PUBLISH
UID:421f00c7-5f6b-4879-b781-171f509e0ef8
X-WR-CALDESC:The Habitat for Humanity of Greater Dayton Office will be clos
 ed in observance of Presidents' Day.
X-WR-RELCALID:15809447d5c0d38add04e8cc25a774df
X-WR-TIMEZONE:America/New_York
BEGIN:VTIMEZONE
TZID:America/New_York
BEGIN:STANDARD
TZNAME:EST
DTSTART:20251102T020000
TZOFFSETFROM:-0400
TZOFFSETTO:-0500
RDATE:20261101T020000
END:STANDARD
BEGIN:DAYLIGHT
TZNAME:EDT
DTSTART:20250309T020000
TZOFFSETFROM:-0500
TZOFFSETTO:-0400
RDATE:20260308T020000
RDATE:20270314T020000
END:DAYLIGHT
END:VTIMEZONE
BEGIN:VEVENT
UID:4d47e6e4-4f7f-4c4e-9a24-fccace8d51d3
DTSTAMP:20260425T004139Z
DESCRIPTION:The Habitat for Humanity of Greater Dayton Office will be close
 d in observance of Presidents' Day.
DTSTART;TZID=America/New_York:20260216T060000
DTEND;TZID=America/New_York:20260216T060001
LOCATION:
SUMMARY:Habitat for Humanity of Greater Dayton Office- CLOSED
END:VEVENT
END:VCALENDAR
