BEGIN:VCALENDAR
VERSION:2.0
PRODID:-//daytonhabitat.org//NONSGML kigkonsult.se iCalcreator 2.30.10//
CALSCALE:GREGORIAN
METHOD:PUBLISH
UID:2a040b3c-2205-4cf8-b365-4b14282e115b
X-WR-CALDESC:Join Habitat for Humanity of Greater Dayton as they share thei
 r successes from the past year. This event is by invitation only.
X-WR-RELCALID:0765b83d6cb31446b0f2e8ee81148d42
X-WR-TIMEZONE:America/New_York
BEGIN:VTIMEZONE
TZID:America/New_York
BEGIN:STANDARD
TZNAME:EST
DTSTART:20251102T020000
TZOFFSETFROM:-0400
TZOFFSETTO:-0500
RDATE:20261101T020000
END:STANDARD
BEGIN:DAYLIGHT
TZNAME:EDT
DTSTART:20250309T020000
TZOFFSETFROM:-0500
TZOFFSETTO:-0400
RDATE:20260308T020000
RDATE:20270314T020000
END:DAYLIGHT
END:VTIMEZONE
BEGIN:VEVENT
UID:1f90ce93-97b0-479c-96ac-1d67786f25ce
DTSTAMP:20260425T020833Z
DESCRIPTION:Join Habitat for Humanity of Greater Dayton as they share their
  successes from the past year. This event is by invitation only.
DTSTART;TZID=America/New_York:20260129T180000
DTEND;TZID=America/New_York:20260129T200000
LOCATION:115 W Riverview Ave\, Dayton\, OH 45405 US
SUMMARY:The Annual Meeting of Habitat for Humanity of Greater Dayton\, Inc.
END:VEVENT
END:VCALENDAR
