BEGIN:VCALENDAR
VERSION:2.0
PRODID:-//daytonhabitat.org//NONSGML kigkonsult.se iCalcreator 2.30.10//
CALSCALE:GREGORIAN
METHOD:PUBLISH
UID:c2430a6a-cfdb-49ad-b874-672ebc06393e
X-WR-CALDESC:The Habitat for Humanity of Greater Dayton ReStore Locations w
 ill be closed in observance of Martin Luther King Jr. Day.
X-WR-RELCALID:a23ae3ac0a2e581336dd48fd883c32db
X-WR-TIMEZONE:America/New_York
BEGIN:VTIMEZONE
TZID:America/New_York
BEGIN:STANDARD
TZNAME:EST
DTSTART:20251102T020000
TZOFFSETFROM:-0400
TZOFFSETTO:-0500
RDATE:20261101T020000
END:STANDARD
BEGIN:DAYLIGHT
TZNAME:EDT
DTSTART:20250309T020000
TZOFFSETFROM:-0500
TZOFFSETTO:-0400
RDATE:20260308T020000
RDATE:20270314T020000
END:DAYLIGHT
END:VTIMEZONE
BEGIN:VEVENT
UID:3140a2f0-31d7-4ce6-a8ae-dd957d1a1d94
DTSTAMP:20260425T021138Z
DESCRIPTION:The Habitat for Humanity of Greater Dayton ReStore Locations wi
 ll be closed in observance of Martin Luther King Jr. Day.
DTSTART;TZID=America/New_York:20260120T060000
DTEND;TZID=America/New_York:20260120T060001
LOCATION:
SUMMARY:Habitat for Humanity of Greater Dayton ReStore Locations- CLOSED
END:VEVENT
END:VCALENDAR
