BEGIN:VCALENDAR
VERSION:2.0
PRODID:-//daytonhabitat.org//NONSGML kigkonsult.se iCalcreator 2.30.10//
CALSCALE:GREGORIAN
METHOD:PUBLISH
UID:4caad94b-6215-4456-b222-fd30f3a62664
X-WR-CALDESC:The Habitat for Humanity of Greater Dayton Construction Build 
 Sites will be closed in observance of Martin Luther King Jr. Day.
X-WR-RELCALID:f8c0b6661807cd27b27ec5bc7a74672d
X-WR-TIMEZONE:America/New_York
BEGIN:VTIMEZONE
TZID:America/New_York
BEGIN:STANDARD
TZNAME:EST
DTSTART:20251102T020000
TZOFFSETFROM:-0400
TZOFFSETTO:-0500
RDATE:20261101T020000
END:STANDARD
BEGIN:DAYLIGHT
TZNAME:EDT
DTSTART:20250309T020000
TZOFFSETFROM:-0500
TZOFFSETTO:-0400
RDATE:20260308T020000
RDATE:20270314T020000
END:DAYLIGHT
END:VTIMEZONE
BEGIN:VEVENT
UID:27575dac-b9a5-4b82-820f-d95a5f7bc673
DTSTAMP:20260425T022055Z
DESCRIPTION:The Habitat for Humanity of Greater Dayton Construction Build S
 ites will be closed in observance of Martin Luther King Jr. Day.
DTSTART;TZID=America/New_York:20260120T060000
DTEND;TZID=America/New_York:20260120T060001
LOCATION:
SUMMARY:Habitat for Humanity of Greater Dayton Build Sites- CLOSED
END:VEVENT
END:VCALENDAR
