BEGIN:VCALENDAR
VERSION:2.0
PRODID:-//daytonhabitat.org//NONSGML kigkonsult.se iCalcreator 2.30.10//
CALSCALE:GREGORIAN
METHOD:PUBLISH
UID:cb5836d9-9199-4d5f-8425-f97ebbea9745
X-WR-CALDESC:The Habitat for Humanity of Greater Dayton Office will be clos
 ed in observance of Martin Luther King Jr. Day.
X-WR-RELCALID:7358a8b94b9a5bdc52fd5979acb34626
X-WR-TIMEZONE:America/New_York
BEGIN:VTIMEZONE
TZID:America/New_York
BEGIN:STANDARD
TZNAME:EST
DTSTART:20251102T020000
TZOFFSETFROM:-0400
TZOFFSETTO:-0500
RDATE:20261101T020000
END:STANDARD
BEGIN:DAYLIGHT
TZNAME:EDT
DTSTART:20250309T020000
TZOFFSETFROM:-0500
TZOFFSETTO:-0400
RDATE:20260308T020000
RDATE:20270314T020000
END:DAYLIGHT
END:VTIMEZONE
BEGIN:VEVENT
UID:c94deefe-8905-4ad8-bcbd-2983534c3fa9
DTSTAMP:20260425T021204Z
DESCRIPTION:The Habitat for Humanity of Greater Dayton Office will be close
 d in observance of Martin Luther King Jr. Day.
DTSTART;TZID=America/New_York:20260119T060000
DTEND;TZID=America/New_York:20260119T060001
LOCATION:
SUMMARY:Habitat for Humanity of Greater Dayton Office- CLOSED
END:VEVENT
END:VCALENDAR
