BEGIN:VCALENDAR
VERSION:2.0
PRODID:-//daytonhabitat.org//NONSGML kigkonsult.se iCalcreator 2.30.10//
CALSCALE:GREGORIAN
METHOD:PUBLISH
UID:0bd784c2-9a3b-4efe-84ff-f6813e423e85
X-WR-CALDESC:The Habitat for Humanity of Greater Dayton ReStore Locations w
 ill both be closed in observance of the holiday. Regular hours will resume
  on 12/30.
X-WR-RELCALID:42f46ff091c50e982662d8c5e95b88bb
X-WR-TIMEZONE:America/New_York
BEGIN:VTIMEZONE
TZID:America/New_York
BEGIN:STANDARD
TZNAME:EST
DTSTART:20251102T020000
TZOFFSETFROM:-0400
TZOFFSETTO:-0500
RDATE:20261101T020000
END:STANDARD
BEGIN:DAYLIGHT
TZNAME:EDT
DTSTART:20250309T020000
TZOFFSETFROM:-0500
TZOFFSETTO:-0400
RDATE:20260308T020000
RDATE:20270314T020000
END:DAYLIGHT
END:VTIMEZONE
BEGIN:VEVENT
UID:04aa9fe4-4723-4457-aa44-9a7e617c54c2
DTSTAMP:20260425T033509Z
DESCRIPTION:The Habitat for Humanity of Greater Dayton ReStore Locations wi
 ll both be closed in observance of the holiday. Regular hours will resume 
 on 12/30.
DTSTART;TZID=America/New_York:20251226T000000
DTEND;TZID=America/New_York:20251227T233000
LOCATION:
SUMMARY:Habitat for Humanity of Greater Dayton ReStore Locations - CLOSED
END:VEVENT
END:VCALENDAR
