BEGIN:VCALENDAR
VERSION:2.0
PRODID:-//daytonhabitat.org//NONSGML kigkonsult.se iCalcreator 2.30.10//
CALSCALE:GREGORIAN
METHOD:PUBLISH
UID:9caa6a06-8eae-4a5b-8ed2-5f6efab41406
X-WR-CALDESC:The Habitat for Humanity of Greater Dayton Office and ReStore 
 locations will be closed in observance of the 4th of July.
X-WR-RELCALID:7d8f375dba19d99be45217b4b7d01e83
X-WR-TIMEZONE:America/New_York
BEGIN:VTIMEZONE
TZID:America/New_York
BEGIN:STANDARD
TZNAME:EST
DTSTART:20241103T020000
TZOFFSETFROM:-0400
TZOFFSETTO:-0500
RDATE:20251102T020000
RDATE:20261101T020000
END:STANDARD
BEGIN:DAYLIGHT
TZNAME:EDT
DTSTART:20250309T020000
TZOFFSETFROM:-0500
TZOFFSETTO:-0400
RDATE:20260308T020000
END:DAYLIGHT
END:VTIMEZONE
BEGIN:VEVENT
UID:5ba6b440-9953-46d9-84b6-ac5de4508460
DTSTAMP:20260425T110306Z
DESCRIPTION:The Habitat for Humanity of Greater Dayton Office and ReStore l
 ocations will be closed in observance of the 4th of July.
DTSTART;TZID=America/New_York:20250704T060000
DTEND;TZID=America/New_York:20250704T060001
LOCATION:
SUMMARY:Habitat for Humanity of Greater Dayton Office and ReStores- CLOSED
END:VEVENT
END:VCALENDAR
