BEGIN:VCALENDAR
VERSION:2.0
PRODID:-//daytonhabitat.org//NONSGML kigkonsult.se iCalcreator 2.30.10//
CALSCALE:GREGORIAN
METHOD:PUBLISH
UID:8a45ede1-894e-4855-ac41-0be5b8e9e060
X-WR-CALDESC:Join Dayton Habitat as they celebrate Len & Alicia's new home 
 during our upcoming dedication ceremony!
X-WR-RELCALID:db5f951e6acb6ad77ddcfeeb449707e5
X-WR-TIMEZONE:America/New_York
BEGIN:VTIMEZONE
TZID:America/New_York
BEGIN:STANDARD
TZNAME:EST
DTSTART:20241103T020000
TZOFFSETFROM:-0400
TZOFFSETTO:-0500
RDATE:20251102T020000
RDATE:20261101T020000
END:STANDARD
BEGIN:DAYLIGHT
TZNAME:EDT
DTSTART:20250309T020000
TZOFFSETFROM:-0500
TZOFFSETTO:-0400
RDATE:20260308T020000
END:DAYLIGHT
END:VTIMEZONE
BEGIN:VEVENT
UID:6c6f1797-a7d5-4d95-8a1f-cde9a6a73b42
DTSTAMP:20260425T123829Z
DESCRIPTION:Join Dayton Habitat as they celebrate Len & Alicia's new home d
 uring our upcoming dedication ceremony!
DTSTART;TZID=America/New_York:20250613T120000
DTEND;TZID=America/New_York:20250613T130000
LOCATION:33 N Perry St.\, Vandalia \, OH 45377 US
SUMMARY:Veterans Build Dedication Ceremony
END:VEVENT
END:VCALENDAR
