BEGIN:VCALENDAR
VERSION:2.0
PRODID:-//daytonhabitat.org//NONSGML kigkonsult.se iCalcreator 2.30.10//
CALSCALE:GREGORIAN
METHOD:PUBLISH
UID:bdfed36c-5ad4-454f-9570-cec1db0496ce
X-WR-CALDESC:Congratulations to this year's DBJ Forty Under 40 honorees! Th
 is closed event is exclusively for DBJ Forty Under 40 honorees\, DBJ staff
  and other invited guests.
X-WR-RELCALID:92fbbdef46b2d9a12e71eeec42f792f4
X-WR-TIMEZONE:America/New_York
BEGIN:VTIMEZONE
TZID:America/New_York
BEGIN:STANDARD
TZNAME:EST
DTSTART:20241103T020000
TZOFFSETFROM:-0400
TZOFFSETTO:-0500
RDATE:20251102T020000
RDATE:20261101T020000
END:STANDARD
BEGIN:DAYLIGHT
TZNAME:EDT
DTSTART:20250309T020000
TZOFFSETFROM:-0500
TZOFFSETTO:-0400
RDATE:20260308T020000
END:DAYLIGHT
END:VTIMEZONE
BEGIN:VEVENT
UID:e9d481a2-a9ca-4048-a9f0-e31691ec9803
DTSTAMP:20260425T123829Z
DESCRIPTION:Congratulations to this year's DBJ Forty Under 40 honorees! Thi
 s closed event is exclusively for DBJ Forty Under 40 honorees\, DBJ staff 
 and other invited guests.
DTSTART;TZID=America/New_York:20250613T160000
DTEND;TZID=America/New_York:20250613T180000
LOCATION:115 W Riverview Ave\, Dayton OH 45405\, Dayton\, OH 45405 US
SUMMARY:Forty Under 40 Happy Hour Reception
END:VEVENT
END:VCALENDAR
