BEGIN:VCALENDAR
VERSION:2.0
PRODID:-//daytonhabitat.org//NONSGML kigkonsult.se iCalcreator 2.30.10//
CALSCALE:GREGORIAN
METHOD:PUBLISH
UID:cee55280-3327-4a8e-9b11-5156126de79f
X-WR-CALDESC:Thank you to the Reynolds and Reynolds Foundation for continui
 ng to support Habitat for Humanity of Greater Dayton!
X-WR-RELCALID:0e7c1a61ed96fb8445db05755f67e8f2
X-WR-TIMEZONE:America/New_York
BEGIN:VTIMEZONE
TZID:America/New_York
BEGIN:STANDARD
TZNAME:EST
DTSTART:20241103T020000
TZOFFSETFROM:-0400
TZOFFSETTO:-0500
RDATE:20251102T020000
RDATE:20261101T020000
END:STANDARD
BEGIN:DAYLIGHT
TZNAME:EDT
DTSTART:20250309T020000
TZOFFSETFROM:-0500
TZOFFSETTO:-0400
RDATE:20260308T020000
END:DAYLIGHT
END:VTIMEZONE
BEGIN:VEVENT
UID:422cba1d-5646-4180-8acd-9d863a71d096
DTSTAMP:20260425T123727Z
DESCRIPTION:Thank you to the Reynolds and Reynolds Foundation for continuin
 g to support Habitat for Humanity of Greater Dayton!
DTSTART;TZID=America/New_York:20250613T060000
DTEND;TZID=America/New_York:20250614T060001
LOCATION:Reynolds and Reynolds
SUMMARY:Annual Reynolds and Reynolds Foundation Panel Build
END:VEVENT
END:VCALENDAR
