BEGIN:VCALENDAR
VERSION:2.0
PRODID:-//daytonhabitat.org//NONSGML kigkonsult.se iCalcreator 2.30.10//
CALSCALE:GREGORIAN
METHOD:PUBLISH
UID:50d8f15f-9690-468b-9268-661a2bc1e934
X-WR-CALDESC:The Habitat for Humanity of Greater Dayton Office will be clos
 ed in observance of Memorial Day.
X-WR-RELCALID:21d4287f5f283a265867b05635874b4f
X-WR-TIMEZONE:America/New_York
BEGIN:VTIMEZONE
TZID:America/New_York
BEGIN:STANDARD
TZNAME:EST
DTSTART:20241103T020000
TZOFFSETFROM:-0400
TZOFFSETTO:-0500
RDATE:20251102T020000
RDATE:20261101T020000
END:STANDARD
BEGIN:DAYLIGHT
TZNAME:EDT
DTSTART:20250309T020000
TZOFFSETFROM:-0500
TZOFFSETTO:-0400
RDATE:20260308T020000
END:DAYLIGHT
END:VTIMEZONE
BEGIN:VEVENT
UID:40890b9f-77f5-4e6c-9b55-30cf6512da36
DTSTAMP:20260425T141819Z
DESCRIPTION:The Habitat for Humanity of Greater Dayton Office will be close
 d in observance of Memorial Day.
DTSTART;TZID=America/New_York:20250526T060000
DTEND;TZID=America/New_York:20250526T060001
LOCATION:
SUMMARY:Habitat for Humanity of Greater Dayton Office- CLOSED
END:VEVENT
END:VCALENDAR
