BEGIN:VCALENDAR
VERSION:2.0
PRODID:-//daytonhabitat.org//NONSGML kigkonsult.se iCalcreator 2.30.10//
CALSCALE:GREGORIAN
METHOD:PUBLISH
UID:9c6ef9e6-4aee-48f6-bb60-ead0c1530994
X-WR-CALDESC:The Habitat for Humanity of Greater Dayton Office and ReStores
  will be closed in observance of Good Friday. Regular hours will resume to
 morrow.
X-WR-RELCALID:f57ad877be318745ae59db1334fe736a
X-WR-TIMEZONE:America/New_York
BEGIN:VTIMEZONE
TZID:America/New_York
BEGIN:STANDARD
TZNAME:EST
DTSTART:20241103T020000
TZOFFSETFROM:-0400
TZOFFSETTO:-0500
RDATE:20251102T020000
END:STANDARD
BEGIN:DAYLIGHT
TZNAME:EDT
DTSTART:20250309T020000
TZOFFSETFROM:-0500
TZOFFSETTO:-0400
RDATE:20260308T020000
END:DAYLIGHT
END:VTIMEZONE
BEGIN:VEVENT
UID:2224602b-eb12-4962-abd9-89bab554abfe
DTSTAMP:20260425T154836Z
DESCRIPTION:The Habitat for Humanity of Greater Dayton Office and ReStores 
 will be closed in observance of Good Friday. Regular hours will resume tom
 orrow.
DTSTART;TZID=America/New_York:20250418T060000
DTEND;TZID=America/New_York:20250418T060001
LOCATION:
SUMMARY:Habitat for Humanity of Greater Dayton Office and ReStores- CLOSED
END:VEVENT
END:VCALENDAR
