BEGIN:VCALENDAR
VERSION:2.0
PRODID:-//daytonhabitat.org//NONSGML kigkonsult.se iCalcreator 2.30.10//
CALSCALE:GREGORIAN
METHOD:PUBLISH
UID:4b7afe48-60fd-4cee-8f18-f184b95aacd9
X-WR-CALDESC:The Habitat for Humanity of Greater Dayton ReStore locations w
 ill be closed in observance of President's Day.
X-WR-RELCALID:e2fcdc042d85bbeb32b99fe06ee90083
X-WR-TIMEZONE:America/New_York
BEGIN:VTIMEZONE
TZID:America/New_York
BEGIN:STANDARD
TZNAME:EST
DTSTART:20241103T020000
TZOFFSETFROM:-0400
TZOFFSETTO:-0500
RDATE:20251102T020000
END:STANDARD
BEGIN:DAYLIGHT
TZNAME:EDT
DTSTART:20240310T020000
TZOFFSETFROM:-0500
TZOFFSETTO:-0400
RDATE:20250309T020000
RDATE:20260308T020000
END:DAYLIGHT
END:VTIMEZONE
BEGIN:VEVENT
UID:e0eceee4-169b-428c-bba1-99e073c3aab2
DTSTAMP:20260425T183200Z
DESCRIPTION:The Habitat for Humanity of Greater Dayton ReStore locations wi
 ll be closed in observance of President's Day.
DTSTART;TZID=America/New_York:20250218T060000
DTEND;TZID=America/New_York:20250218T060001
LOCATION:
SUMMARY:Habitat for Humanity of Greater Dayton ReStores- CLOSED
END:VEVENT
END:VCALENDAR
