BEGIN:VCALENDAR
VERSION:2.0
PRODID:-//daytonhabitat.org//NONSGML kigkonsult.se iCalcreator 2.30.10//
CALSCALE:GREGORIAN
METHOD:PUBLISH
UID:0b49d054-1835-4ea7-a87b-03631e73d01d
X-WR-CALDESC:The Habitat for Humanity of Greater Dayton Office will be clos
 ed in observance of President's Day.
X-WR-RELCALID:e62179ea4fde116ba1d424c317abbf87
X-WR-TIMEZONE:America/New_York
BEGIN:VTIMEZONE
TZID:America/New_York
BEGIN:STANDARD
TZNAME:EST
DTSTART:20241103T020000
TZOFFSETFROM:-0400
TZOFFSETTO:-0500
RDATE:20251102T020000
END:STANDARD
BEGIN:DAYLIGHT
TZNAME:EDT
DTSTART:20240310T020000
TZOFFSETFROM:-0500
TZOFFSETTO:-0400
RDATE:20250309T020000
RDATE:20260308T020000
END:DAYLIGHT
END:VTIMEZONE
BEGIN:VEVENT
UID:4a2f87ed-a1ba-4a8e-9a4b-900f646bad42
DTSTAMP:20260425T182720Z
DESCRIPTION:The Habitat for Humanity of Greater Dayton Office will be close
 d in observance of President's Day.
DTSTART;TZID=America/New_York:20250217T060000
DTEND;TZID=America/New_York:20250217T060001
LOCATION:
SUMMARY:Habitat for Humanity of Greater Dayton Office- CLOSED
END:VEVENT
END:VCALENDAR
