BEGIN:VCALENDAR
VERSION:2.0
PRODID:-//daytonhabitat.org//NONSGML kigkonsult.se iCalcreator 2.30.10//
CALSCALE:GREGORIAN
METHOD:PUBLISH
UID:110f909b-1ba3-4b97-9449-4f8b2ad40bba
X-WR-CALDESC:Members of the Habitat for Humanity of Greater Dayton staff wi
 ll be in Washington DC to meet with lawmakers and advocate for change. Hab
 itat strives to create a world where everyone has a decent place to live!
X-WR-RELCALID:6a97b6c458306ec7fd579d1cd44541d2
X-WR-TIMEZONE:America/New_York
BEGIN:VTIMEZONE
TZID:America/New_York
BEGIN:STANDARD
TZNAME:EST
DTSTART:20241103T020000
TZOFFSETFROM:-0400
TZOFFSETTO:-0500
RDATE:20251102T020000
END:STANDARD
BEGIN:DAYLIGHT
TZNAME:EDT
DTSTART:20240310T020000
TZOFFSETFROM:-0500
TZOFFSETTO:-0400
RDATE:20250309T020000
RDATE:20260308T020000
END:DAYLIGHT
END:VTIMEZONE
BEGIN:VEVENT
UID:e5ad8658-3ff5-4ab3-b7c9-8adf27f189b3
DTSTAMP:20260425T183039Z
DESCRIPTION:Members of the Habitat for Humanity of Greater Dayton staff wil
 l be in Washington DC to meet with lawmakers and advocate for change. Habi
 tat strives to create a world where everyone has a decent place to live!
DTSTART;TZID=America/New_York:20250211T060000
DTEND;TZID=America/New_York:20250213T060001
LOCATION:Washington DC
SUMMARY:Habitat on the Hill
END:VEVENT
END:VCALENDAR
