BEGIN:VCALENDAR
VERSION:2.0
PRODID:-//daytonhabitat.org//NONSGML kigkonsult.se iCalcreator 2.30.10//
CALSCALE:GREGORIAN
METHOD:PUBLISH
UID:3f368f46-eca6-406a-86ac-58333895577a
X-WR-CALDESC:Join Habitat for Humanity of Greater Dayton as they share thei
 r successes from the past year.
X-WR-RELCALID:f039b5b63e6aae5f48d482db46c4ae23
X-WR-TIMEZONE:America/New_York
BEGIN:VTIMEZONE
TZID:America/New_York
BEGIN:STANDARD
TZNAME:EST
DTSTART:20241103T020000
TZOFFSETFROM:-0400
TZOFFSETTO:-0500
RDATE:20251102T020000
END:STANDARD
BEGIN:DAYLIGHT
TZNAME:EDT
DTSTART:20240310T020000
TZOFFSETFROM:-0500
TZOFFSETTO:-0400
RDATE:20250309T020000
RDATE:20260308T020000
END:DAYLIGHT
END:VTIMEZONE
BEGIN:VEVENT
UID:29a845c0-ff63-4503-a2f1-19acc6880ba1
DTSTAMP:20260425T195245Z
DESCRIPTION:Join Habitat for Humanity of Greater Dayton as they share their
  successes from the past year.
DTSTART;TZID=America/New_York:20250130T180000
DTEND;TZID=America/New_York:20250130T200000
LOCATION:115 W Riverview Ave\, Dayton\, OH 45405 US
SUMMARY:The Annual Meeting of Habitat for Humanity of Greater Dayton\, Inc.
END:VEVENT
END:VCALENDAR
