BEGIN:VCALENDAR
VERSION:2.0
PRODID:-//daytonhabitat.org//NONSGML kigkonsult.se iCalcreator 2.30.10//
CALSCALE:GREGORIAN
METHOD:PUBLISH
UID:ceefcfdb-21de-4170-af2e-0df9d7e8a76a
X-WR-CALDESC:Join Dayton Habitat as they celebrate Katherine's new home dur
 ing our upcoming dedication ceremony!
X-WR-RELCALID:0a7f76db1c430352fd184cd76d5051a2
X-WR-TIMEZONE:America/New_York
BEGIN:VTIMEZONE
TZID:America/New_York
BEGIN:STANDARD
TZNAME:EST
DTSTART:20241103T020000
TZOFFSETFROM:-0400
TZOFFSETTO:-0500
RDATE:20251102T020000
END:STANDARD
BEGIN:DAYLIGHT
TZNAME:EDT
DTSTART:20240310T020000
TZOFFSETFROM:-0500
TZOFFSETTO:-0400
RDATE:20250309T020000
RDATE:20260308T020000
END:DAYLIGHT
END:VTIMEZONE
BEGIN:VEVENT
UID:0c000b81-40bd-49d1-981f-5b75db4e5202
DTSTAMP:20260424T221348Z
DESCRIPTION:Join Dayton Habitat as they celebrate Katherine's new home duri
 ng our upcoming dedication ceremony!
DTSTART;TZID=America/New_York:20250124T120000
DTEND;TZID=America/New_York:20250124T130000
LOCATION:6784 Sandy Drive\, Trotwood\, OH 45426 US
SUMMARY:Dedication Ceremony for Katherine and her son
END:VEVENT
END:VCALENDAR
