BEGIN:VCALENDAR
VERSION:2.0
PRODID:-//daytonhabitat.org//NONSGML kigkonsult.se iCalcreator 2.30.10//
CALSCALE:GREGORIAN
METHOD:PUBLISH
UID:4d8a2c08-3a39-4725-ac4c-27fe45bd5d04
X-WR-CALDESC:The Habitat for Humanity of Greater Dayton ReStore locations w
 ill be closed in observance of Martin Luther King Jr Day.
X-WR-RELCALID:5f7907cb361c4b4b31828cd29d092391
X-WR-TIMEZONE:America/New_York
BEGIN:VTIMEZONE
TZID:America/New_York
BEGIN:STANDARD
TZNAME:EST
DTSTART:20241103T020000
TZOFFSETFROM:-0400
TZOFFSETTO:-0500
RDATE:20251102T020000
END:STANDARD
BEGIN:DAYLIGHT
TZNAME:EDT
DTSTART:20240310T020000
TZOFFSETFROM:-0500
TZOFFSETTO:-0400
RDATE:20250309T020000
RDATE:20260308T020000
END:DAYLIGHT
END:VTIMEZONE
BEGIN:VEVENT
UID:2bbddcf4-fa81-437d-9aae-5b2deb1f5cb6
DTSTAMP:20260425T195030Z
DESCRIPTION:The Habitat for Humanity of Greater Dayton ReStore locations wi
 ll be closed in observance of Martin Luther King Jr Day.
DTSTART;TZID=America/New_York:20250121T060000
DTEND;TZID=America/New_York:20250121T060001
LOCATION:
SUMMARY:Habitat for Humanity of Greater Dayton ReStores- CLOSED
END:VEVENT
END:VCALENDAR
