BEGIN:VCALENDAR
VERSION:2.0
PRODID:-//daytonhabitat.org//NONSGML kigkonsult.se iCalcreator 2.30.10//
CALSCALE:GREGORIAN
METHOD:PUBLISH
UID:1a5586a0-8fe9-4a91-bb96-521afd771b3c
X-WR-CALDESC:The Habitat for Humanity of Greater Dayton Office will be clos
 ed in observance of Martin Luther King Jr Day.
X-WR-RELCALID:fda2667d0fcf299db59d81804391ad40
X-WR-TIMEZONE:America/New_York
BEGIN:VTIMEZONE
TZID:America/New_York
BEGIN:STANDARD
TZNAME:EST
DTSTART:20241103T020000
TZOFFSETFROM:-0400
TZOFFSETTO:-0500
RDATE:20251102T020000
END:STANDARD
BEGIN:DAYLIGHT
TZNAME:EDT
DTSTART:20240310T020000
TZOFFSETFROM:-0500
TZOFFSETTO:-0400
RDATE:20250309T020000
RDATE:20260308T020000
END:DAYLIGHT
END:VTIMEZONE
BEGIN:VEVENT
UID:54b19c03-c478-4f2d-afb9-d947d57de3d2
DTSTAMP:20260425T194846Z
DESCRIPTION:The Habitat for Humanity of Greater Dayton Office will be close
 d in observance of Martin Luther King Jr Day.
DTSTART;TZID=America/New_York:20250120T060000
DTEND;TZID=America/New_York:20250120T060001
LOCATION:
SUMMARY:Habitat for Humanity of Greater Dayton Office- CLOSED
END:VEVENT
END:VCALENDAR
