BEGIN:VCALENDAR
VERSION:2.0
PRODID:-//daytonhabitat.org//NONSGML kigkonsult.se iCalcreator 2.30.10//
CALSCALE:GREGORIAN
METHOD:PUBLISH
UID:16bf6383-417b-4242-99e1-f4185a3c2959
X-WR-CALDESC:The Habitat for Humanity of Greater Dayton Office and ReStore 
 locations will be closed in observance of Christmas.
X-WR-RELCALID:07582032001ddc760fdc8f5b73f26417
X-WR-TIMEZONE:America/New_York
BEGIN:VTIMEZONE
TZID:America/New_York
BEGIN:STANDARD
TZNAME:EST
DTSTART:20241103T020000
TZOFFSETFROM:-0400
TZOFFSETTO:-0500
RDATE:20251102T020000
END:STANDARD
BEGIN:DAYLIGHT
TZNAME:EDT
DTSTART:20240310T020000
TZOFFSETFROM:-0500
TZOFFSETTO:-0400
RDATE:20250309T020000
RDATE:20260308T020000
END:DAYLIGHT
END:VTIMEZONE
BEGIN:VEVENT
UID:80a2d6c1-e3e5-4066-8834-7d207831722e
DTSTAMP:20260425T212451Z
DESCRIPTION:The Habitat for Humanity of Greater Dayton Office and ReStore l
 ocations will be closed in observance of Christmas.
DTSTART;TZID=America/New_York:20241224T060000
DTEND;TZID=America/New_York:20241225T060001
LOCATION:
SUMMARY:Habitat for Humanity of Greater Dayton Office and ReStores- CLOSED
END:VEVENT
END:VCALENDAR
