BEGIN:VCALENDAR
VERSION:2.0
PRODID:-//daytonhabitat.org//NONSGML kigkonsult.se iCalcreator 2.30.10//
CALSCALE:GREGORIAN
METHOD:PUBLISH
UID:7230f963-76d4-4f12-9a48-b6d398631b7d
X-WR-CALDESC:The Habitat for Humanity of Greater Dayton Office and ReStore 
 locations will be closed in observance of Thanksgiving.
X-WR-RELCALID:157b51842082111016b167300f165270
X-WR-TIMEZONE:America/New_York
BEGIN:VTIMEZONE
TZID:America/New_York
BEGIN:STANDARD
TZNAME:EST
DTSTART:20241103T020000
TZOFFSETFROM:-0400
TZOFFSETTO:-0500
RDATE:20251102T020000
END:STANDARD
BEGIN:DAYLIGHT
TZNAME:EDT
DTSTART:20240310T020000
TZOFFSETFROM:-0500
TZOFFSETTO:-0400
RDATE:20250309T020000
RDATE:20260308T020000
END:DAYLIGHT
END:VTIMEZONE
BEGIN:VEVENT
UID:b62edd27-a135-478a-bccb-b7d549fd3859
DTSTAMP:20260425T225710Z
DESCRIPTION:The Habitat for Humanity of Greater Dayton Office and ReStore l
 ocations will be closed in observance of Thanksgiving.
DTSTART;TZID=America/New_York:20241128T060000
DTEND;TZID=America/New_York:20241129T060001
LOCATION:
SUMMARY:Habitat for Humanity of Greater Dayton Office and ReStores- CLOSED
END:VEVENT
END:VCALENDAR
