BEGIN:VCALENDAR
VERSION:2.0
PRODID:-//daytonhabitat.org//NONSGML kigkonsult.se iCalcreator 2.30.10//
CALSCALE:GREGORIAN
METHOD:PUBLISH
UID:5b1a057a-ddbf-420a-b8b6-11cf70f5fc1f
X-WR-CALDESC:Join Dayton Habitat as they celebrate April's new home during 
 the Women Build dedication ceremony!
X-WR-RELCALID:032fbf2d851819363457ab83203fcbdc
X-WR-TIMEZONE:America/New_York
BEGIN:VTIMEZONE
TZID:America/New_York
BEGIN:STANDARD
TZNAME:EST
DTSTART:20241103T020000
TZOFFSETFROM:-0400
TZOFFSETTO:-0500
RDATE:20251102T020000
END:STANDARD
BEGIN:DAYLIGHT
TZNAME:EDT
DTSTART:20240310T020000
TZOFFSETFROM:-0500
TZOFFSETTO:-0400
RDATE:20250309T020000
RDATE:20260308T020000
END:DAYLIGHT
END:VTIMEZONE
BEGIN:VEVENT
UID:3d5040eb-c356-4c7c-a2eb-ce6c4c5f1498
DTSTAMP:20260425T225710Z
DESCRIPTION:Join Dayton Habitat as they celebrate April's new home during t
 he Women Build dedication ceremony!
DTSTART;TZID=America/New_York:20241122T120000
DTEND;TZID=America/New_York:20241122T130000
LOCATION:6724 Sandy Dr.\, Trotwood\, OH 45426 US
SUMMARY:Women Build Dedication
END:VEVENT
END:VCALENDAR
