BEGIN:VCALENDAR
VERSION:2.0
PRODID:-//daytonhabitat.org//NONSGML kigkonsult.se iCalcreator 2.30.10//
CALSCALE:GREGORIAN
METHOD:PUBLISH
UID:3650737e-e048-4426-b174-bb8843eb9609
X-WR-CALDESC:Many area non-profits and organizations will be at the Five Ri
 vers Health Centers from noon to 2:00 PM. So be prepared to learn a lot ab
 out health and assistance programs that can help you and your family.
X-WR-RELCALID:4161d20c2648db194231439fba115243
X-WR-TIMEZONE:America/New_York
BEGIN:VTIMEZONE
TZID:America/New_York
BEGIN:STANDARD
TZNAME:EST
DTSTART:20231105T020000
TZOFFSETFROM:-0400
TZOFFSETTO:-0500
RDATE:20241103T020000
RDATE:20251102T020000
END:STANDARD
BEGIN:DAYLIGHT
TZNAME:EDT
DTSTART:20240310T020000
TZOFFSETFROM:-0500
TZOFFSETTO:-0400
RDATE:20250309T020000
RDATE:20260308T020000
END:DAYLIGHT
END:VTIMEZONE
BEGIN:VEVENT
UID:dfc40a26-b257-4d3b-84e5-9390a9ab6e83
DTSTAMP:20260426T003630Z
DESCRIPTION:Many area non-profits and organizations will be at the Five Riv
 ers Health Centers from noon to 2:00 PM. So be prepared to learn a lot abo
 ut health and assistance programs that can help you and your family.
DTSTART;TZID=America/New_York:20241012T120000
DTEND;TZID=America/New_York:20241012T140000
LOCATION:721 Miami Chapel Rd\, Dayton\, OH 45417 US
SUMMARY:Rock The Block Edgemont Resource Fair
END:VEVENT
END:VCALENDAR
