BEGIN:VCALENDAR
VERSION:2.0
PRODID:-//daytonhabitat.org//NONSGML kigkonsult.se iCalcreator 2.30.10//
CALSCALE:GREGORIAN
METHOD:PUBLISH
UID:96d36983-6ef7-4753-a23b-4b57d0a81233
X-WR-CALDESC:We're Cleaning Up the Neighborhood!\nOn Oct. 12th from 8 am to
  noon\, our volunteers will be moving throughout Edgemont clearing brush/o
 vergrowth\, picking up trash\, painting porches\, and more!\nVolunteer tod
 ay to help clean the neighborhood with us!
X-WR-RELCALID:5ec95fb6f05fe0286f96c3985df81f65
X-WR-TIMEZONE:America/New_York
BEGIN:VTIMEZONE
TZID:America/New_York
BEGIN:STANDARD
TZNAME:EST
DTSTART:20231105T020000
TZOFFSETFROM:-0400
TZOFFSETTO:-0500
RDATE:20241103T020000
RDATE:20251102T020000
END:STANDARD
BEGIN:DAYLIGHT
TZNAME:EDT
DTSTART:20240310T020000
TZOFFSETFROM:-0500
TZOFFSETTO:-0400
RDATE:20250309T020000
RDATE:20260308T020000
END:DAYLIGHT
END:VTIMEZONE
BEGIN:VEVENT
UID:e52452d1-795a-4840-ba67-a2ea6dc0a1f3
DTSTAMP:20260426T003752Z
DESCRIPTION:We're Cleaning Up the Neighborhood!\nOn Oct. 12th from 8 am to 
 noon\, our volunteers will be moving throughout Edgemont clearing brush/ov
 ergrowth\, picking up trash\, painting porches\, and more!\nVolunteer toda
 y to help clean the neighborhood with us!
DTSTART;TZID=America/New_York:20241012T080000
DTEND;TZID=America/New_York:20241012T120000
LOCATION:721 Miami Chapel Rd\, Dayton\, OH 45417 US
SUMMARY:Rock the Block Edgemont Clean Up
END:VEVENT
END:VCALENDAR
