BEGIN:VCALENDAR
VERSION:2.0
PRODID:-//daytonhabitat.org//NONSGML kigkonsult.se iCalcreator 2.30.10//
CALSCALE:GREGORIAN
METHOD:PUBLISH
UID:cb1e8f9d-9f99-45a3-a511-00c8cb0d2641
X-WR-CALDESC:Join Dayton Habitat as they celebrate Aliciah's new home durin
 g the Flyer Nation Build dedication ceremony!
X-WR-RELCALID:4e255d7e7645baa7c05486c3313472b8
X-WR-TIMEZONE:America/New_York
BEGIN:VTIMEZONE
TZID:America/New_York
BEGIN:STANDARD
TZNAME:EST
DTSTART:20231105T020000
TZOFFSETFROM:-0400
TZOFFSETTO:-0500
RDATE:20241103T020000
RDATE:20251102T020000
END:STANDARD
BEGIN:DAYLIGHT
TZNAME:EDT
DTSTART:20240310T020000
TZOFFSETFROM:-0500
TZOFFSETTO:-0400
RDATE:20250309T020000
RDATE:20260308T020000
END:DAYLIGHT
END:VTIMEZONE
BEGIN:VEVENT
UID:d1fa4783-4297-4c48-9758-81839fae54e2
DTSTAMP:20260426T005228Z
DESCRIPTION:Join Dayton Habitat as they celebrate Aliciah's new home during
  the Flyer Nation Build dedication ceremony!
DTSTART;TZID=America/New_York:20241011T120000
DTEND;TZID=America/New_York:20241011T130000
LOCATION:700 Miami Chapel Rd. \, Dayton\, OH 45417 US
SUMMARY:Flyer Nation Build Dedication
END:VEVENT
END:VCALENDAR
