BEGIN:VCALENDAR
VERSION:2.0
PRODID:-//daytonhabitat.org//NONSGML kigkonsult.se iCalcreator 2.30.10//
CALSCALE:GREGORIAN
METHOD:PUBLISH
UID:cbe66bb2-19a8-4311-af59-c21da67998b2
X-WR-CALDESC:The Habitat for Humanity of Greater Dayton ReStore locations w
 ill be closed in observance of Labor Day. Regular hours will resume on Wed
 nesday.
X-WR-RELCALID:dd29b563e565b1f23bd020e71a9239d3
X-WR-TIMEZONE:America/New_York
BEGIN:VTIMEZONE
TZID:America/New_York
BEGIN:STANDARD
TZNAME:EST
DTSTART:20231105T020000
TZOFFSETFROM:-0400
TZOFFSETTO:-0500
RDATE:20241103T020000
RDATE:20251102T020000
END:STANDARD
BEGIN:DAYLIGHT
TZNAME:EDT
DTSTART:20240310T020000
TZOFFSETFROM:-0500
TZOFFSETTO:-0400
RDATE:20250309T020000
END:DAYLIGHT
END:VTIMEZONE
BEGIN:VEVENT
UID:70120d6f-1919-4c55-aa77-f301964ab5b5
DTSTAMP:20260426T023013Z
DESCRIPTION:The Habitat for Humanity of Greater Dayton ReStore locations wi
 ll be closed in observance of Labor Day. Regular hours will resume on Wedn
 esday.
DTSTART;TZID=America/New_York:20240903T060000
DTEND;TZID=America/New_York:20240903T060001
LOCATION:
SUMMARY:Habitat for Humanity of Greater Dayton ReStore locations- CLOSED
END:VEVENT
END:VCALENDAR
