BEGIN:VCALENDAR
VERSION:2.0
PRODID:-//daytonhabitat.org//NONSGML kigkonsult.se iCalcreator 2.30.10//
CALSCALE:GREGORIAN
METHOD:PUBLISH
UID:a0de93df-271d-4541-8484-2f31ed8b8cc2
X-WR-CALDESC:The Habitat for Humanity of Greater Dayton Office will be clos
 ed in observance of Labor Day. Regular hours will resume on Tuesday.
X-WR-RELCALID:04651111ad64a6e40f5d5d4f7cb16976
X-WR-TIMEZONE:America/New_York
BEGIN:VTIMEZONE
TZID:America/New_York
BEGIN:STANDARD
TZNAME:EST
DTSTART:20231105T020000
TZOFFSETFROM:-0400
TZOFFSETTO:-0500
RDATE:20241103T020000
RDATE:20251102T020000
END:STANDARD
BEGIN:DAYLIGHT
TZNAME:EDT
DTSTART:20240310T020000
TZOFFSETFROM:-0500
TZOFFSETTO:-0400
RDATE:20250309T020000
END:DAYLIGHT
END:VTIMEZONE
BEGIN:VEVENT
UID:f0d734e4-a05e-42d5-99de-961d603ea59a
DTSTAMP:20260426T023131Z
DESCRIPTION:The Habitat for Humanity of Greater Dayton Office will be close
 d in observance of Labor Day. Regular hours will resume on Tuesday.
DTSTART;TZID=America/New_York:20240902T060000
DTEND;TZID=America/New_York:20240902T060001
LOCATION:
SUMMARY:Habitat for Humanity of Greater Dayton Office- CLOSED
END:VEVENT
END:VCALENDAR
