BEGIN:VCALENDAR
VERSION:2.0
PRODID:-//daytonhabitat.org//NONSGML kigkonsult.se iCalcreator 2.30.10//
CALSCALE:GREGORIAN
METHOD:PUBLISH
UID:1a5dcf72-3ef9-4fbe-acb6-a6d88d66efb2
X-WR-CALDESC:We are about to start the work on the first-ever CenterPoint E
 nergy Foundation Build! Dynasty and her children are excited to see their 
 house come together. Please join us for the CenterPoint Energy Foundation 
 Build Groundbreaking on Wednesday\, August 7 from 12:30 PM to 1:30 PM!
X-WR-RELCALID:8bb62cc4d07f0a02b5ea6c6bb2e60267
X-WR-TIMEZONE:America/New_York
BEGIN:VTIMEZONE
TZID:America/New_York
BEGIN:STANDARD
TZNAME:EST
DTSTART:20231105T020000
TZOFFSETFROM:-0400
TZOFFSETTO:-0500
RDATE:20241103T020000
RDATE:20251102T020000
END:STANDARD
BEGIN:DAYLIGHT
TZNAME:EDT
DTSTART:20240310T020000
TZOFFSETFROM:-0500
TZOFFSETTO:-0400
RDATE:20250309T020000
END:DAYLIGHT
END:VTIMEZONE
BEGIN:VEVENT
UID:485df124-2d31-4b3d-8b35-c9a635da273a
DTSTAMP:20260426T035704Z
DESCRIPTION:We are about to start the work on the first-ever CenterPoint En
 ergy Foundation Build! Dynasty and her children are excited to see their h
 ouse come together. Please join us for the CenterPoint Energy Foundation B
 uild Groundbreaking on Wednesday\, August 7 from 12:30 PM to 1:30 PM!
DTSTART;TZID=America/New_York:20240807T123000
DTEND;TZID=America/New_York:20240807T133000
LOCATION:
SUMMARY:CenterPoint Energy Foundation Build Groundbreaking
END:VEVENT
END:VCALENDAR
