BEGIN:VCALENDAR
VERSION:2.0
PRODID:-//daytonhabitat.org//NONSGML kigkonsult.se iCalcreator 2.30.10//
CALSCALE:GREGORIAN
METHOD:PUBLISH
UID:251ef5a0-87be-445a-995c-a10122822cc6
X-WR-CALDESC:Join us as we dedicate the homes of Kasandra & Aa'sjayla\, and
  Olive\, Oliver\, & Olis. Be sure to register so that we know that you wil
 l be there to celebrate the completion of our Women Builds!
X-WR-RELCALID:2e90314cf1de8974efbed25fcc6d9c65
X-WR-TIMEZONE:America/New_York
BEGIN:VTIMEZONE
TZID:America/New_York
BEGIN:STANDARD
TZNAME:EST
DTSTART:20221106T020000
TZOFFSETFROM:-0400
TZOFFSETTO:-0500
RDATE:20231105T020000
RDATE:20241103T020000
END:STANDARD
BEGIN:DAYLIGHT
TZNAME:EDT
DTSTART:20230312T020000
TZOFFSETFROM:-0500
TZOFFSETTO:-0400
RDATE:20240310T020000
RDATE:20250309T020000
END:DAYLIGHT
END:VTIMEZONE
BEGIN:VEVENT
UID:642a32fa-7484-4383-a7e0-187e84b9267c
DTSTAMP:20260424T221645Z
DESCRIPTION:Join us as we dedicate the homes of Kasandra & Aa'sjayla\, and 
 Olive\, Oliver\, & Olis. Be sure to register so that we know that you will
  be there to celebrate the completion of our Women Builds!
DTSTART;TZID=America/New_York:20231027T120000
DTEND;TZID=America/New_York:20231027T130000
LOCATION:2808 Gaylord Ave. \, Kettering \, OH 45419 US
SUMMARY:Women Build Homes Dedication
END:VEVENT
END:VCALENDAR
