BEGIN:VCALENDAR
VERSION:2.0
PRODID:-//daytonhabitat.org//NONSGML kigkonsult.se iCalcreator 2.30.10//
CALSCALE:GREGORIAN
METHOD:PUBLISH
UID:abf5a96b-c373-4cef-bea8-16e690fdf432
X-WR-CALDESC:Everything in the ReStore is 25% off\, including paint and flo
 oring. We don't have extra storage\, so be prepared to take your purchases
  home with you that day.
X-WR-RELCALID:39ea07c746954cd79b3089306b98f4bb
X-WR-TIMEZONE:America/New_York
BEGIN:VTIMEZONE
TZID:America/New_York
BEGIN:STANDARD
TZNAME:EST
DTSTART:20201101T020000
TZOFFSETFROM:-0400
TZOFFSETTO:-0500
RDATE:20211107T020000
END:STANDARD
BEGIN:DAYLIGHT
TZNAME:EDT
DTSTART:20200308T020000
TZOFFSETFROM:-0500
TZOFFSETTO:-0400
RDATE:20210314T020000
RDATE:20220313T020000
END:DAYLIGHT
END:VTIMEZONE
BEGIN:VEVENT
UID:f8ca4ca9-2173-496e-867c-41312b4f8d46
DTSTAMP:20260426T042556Z
DESCRIPTION:Everything in the ReStore is 25% off\, including paint and floo
 ring. We don't have extra storage\, so be prepared to take your purchases 
 home with you that day.
DTSTART;TZID=America/New_York:20201128T090000
DTEND;TZID=America/New_York:20201128T150000
LOCATION:
SUMMARY:ReStore 25% Off Everything Sale!
END:VEVENT
END:VCALENDAR
