BEGIN:VCALENDAR
VERSION:2.0
PRODID:-//daytonhabitat.org//NONSGML kigkonsult.se iCalcreator 2.30.10//
CALSCALE:GREGORIAN
METHOD:PUBLISH
UID:8aba2eed-54d2-4cc7-87e2-ac4423363505
X-WR-CALDESC:Our office and ReStore are closed so that staff may enjoy the 
 Thanksgiving holiday with family.
X-WR-RELCALID:569a10a98c760971b0a47b33ab77147f
X-WR-TIMEZONE:America/New_York
BEGIN:VTIMEZONE
TZID:America/New_York
BEGIN:STANDARD
TZNAME:EST
DTSTART:20201101T020000
TZOFFSETFROM:-0400
TZOFFSETTO:-0500
RDATE:20211107T020000
END:STANDARD
BEGIN:DAYLIGHT
TZNAME:EDT
DTSTART:20200308T020000
TZOFFSETFROM:-0500
TZOFFSETTO:-0400
RDATE:20210314T020000
RDATE:20220313T020000
END:DAYLIGHT
END:VTIMEZONE
BEGIN:VEVENT
UID:5395ce10-6e33-495d-820c-199caea9eba0
DTSTAMP:20260426T041824Z
DESCRIPTION:Our office and ReStore are closed so that staff may enjoy the T
 hanksgiving holiday with family.
DTSTART;TZID=America/New_York:20201126T000000
DTEND;TZID=America/New_York:20201127T235900
LOCATION:
SUMMARY:Office and ReStore Closed
END:VEVENT
END:VCALENDAR
