BEGIN:VCALENDAR
VERSION:2.0
PRODID:-//daytonhabitat.org//NONSGML kigkonsult.se iCalcreator 2.30.10//
CALSCALE:GREGORIAN
METHOD:PUBLISH
UID:9f2c4620-c320-4771-a15b-379139786837
X-WR-CALDESC:
X-WR-RELCALID:735a303af2e859ce627282b3ab19b198
X-WR-TIMEZONE:America/New_York
BEGIN:VTIMEZONE
TZID:America/New_York
BEGIN:STANDARD
TZNAME:EST
DTSTART:20201101T020000
TZOFFSETFROM:-0400
TZOFFSETTO:-0500
RDATE:20211107T020000
END:STANDARD
BEGIN:DAYLIGHT
TZNAME:EDT
DTSTART:20200308T020000
TZOFFSETFROM:-0500
TZOFFSETTO:-0400
RDATE:20210314T020000
RDATE:20220313T020000
END:DAYLIGHT
END:VTIMEZONE
BEGIN:VEVENT
UID:c1d8831c-a8b7-468a-a244-e0e1f827c045
DTSTAMP:20260426T042314Z
DESCRIPTION:
DTSTART;TZID=America/New_York:20201119T000000
DTEND;TZID=America/New_York:20201119T235900
LOCATION:Office and ReStore Closed
SUMMARY:Office and ReStore Closed
END:VEVENT
END:VCALENDAR
