BEGIN:VCALENDAR
VERSION:2.0
PRODID:-//daytonhabitat.org//NONSGML kigkonsult.se iCalcreator 2.30.10//
CALSCALE:GREGORIAN
METHOD:PUBLISH
UID:c2b72685-d85f-470a-bb46-e74936c1f129
X-WR-CALDESC:
X-WR-RELCALID:b246eb4d25980c36637882585d3aec4c
X-WR-TIMEZONE:America/New_York
BEGIN:VTIMEZONE
TZID:America/New_York
BEGIN:STANDARD
TZNAME:EST
DTSTART:20191103T020000
TZOFFSETFROM:-0400
TZOFFSETTO:-0500
RDATE:20201101T020000
RDATE:20211107T020000
END:STANDARD
BEGIN:DAYLIGHT
TZNAME:EDT
DTSTART:20200308T020000
TZOFFSETFROM:-0500
TZOFFSETTO:-0400
RDATE:20210314T020000
RDATE:20220313T020000
END:DAYLIGHT
END:VTIMEZONE
BEGIN:VEVENT
UID:750aa268-ccf8-40da-b294-8b4aab0a84ae
DTSTAMP:20260426T025113Z
DESCRIPTION:
DTSTART;TZID=America/New_York:20201013T000000
DTEND;TZID=America/New_York:20201013T235900
LOCATION:
SUMMARY:ReStore Closed
END:VEVENT
END:VCALENDAR
