BEGIN:VCALENDAR
VERSION:2.0
PRODID:-//daytonhabitat.org//NONSGML kigkonsult.se iCalcreator 2.30.10//
CALSCALE:GREGORIAN
METHOD:PUBLISH
UID:a84e69c7-873e-4143-b51b-5683b255e869
X-WR-CALDESC:
X-WR-RELCALID:8d1e9ddbfbbdc29cfe06f2245848d5f9
X-WR-TIMEZONE:America/New_York
BEGIN:VTIMEZONE
TZID:America/New_York
BEGIN:STANDARD
TZNAME:EST
DTSTART:20191103T020000
TZOFFSETFROM:-0400
TZOFFSETTO:-0500
RDATE:20201101T020000
RDATE:20211107T020000
END:STANDARD
BEGIN:DAYLIGHT
TZNAME:EDT
DTSTART:20200308T020000
TZOFFSETFROM:-0500
TZOFFSETTO:-0400
RDATE:20210314T020000
RDATE:20220313T020000
END:DAYLIGHT
END:VTIMEZONE
BEGIN:VEVENT
UID:d81a3a7a-fad1-484d-89f4-894e7398169b
DTSTAMP:20260426T024554Z
DESCRIPTION:
DTSTART;TZID=America/New_York:20201012T000000
DTEND;TZID=America/New_York:20201012T235900
LOCATION:
SUMMARY:Office Closed
END:VEVENT
END:VCALENDAR
