BEGIN:VCALENDAR
VERSION:2.0
PRODID:-//daytonhabitat.org//NONSGML kigkonsult.se iCalcreator 2.30.10//
CALSCALE:GREGORIAN
METHOD:PUBLISH
UID:e5c1924b-bfd1-4a39-8e1f-f28fbcd3adc5
X-WR-CALDESC:Our ReStore is closed in observance of Labor Day. ReStore is a
 lways closed the Tuesday following a Monday holiday.
X-WR-RELCALID:faa591a917aeca5e300b88057ccaf109
X-WR-TIMEZONE:America/New_York
BEGIN:VTIMEZONE
TZID:America/New_York
BEGIN:STANDARD
TZNAME:EST
DTSTART:20191103T020000
TZOFFSETFROM:-0400
TZOFFSETTO:-0500
RDATE:20201101T020000
RDATE:20211107T020000
END:STANDARD
BEGIN:DAYLIGHT
TZNAME:EDT
DTSTART:20200308T020000
TZOFFSETFROM:-0500
TZOFFSETTO:-0400
RDATE:20210314T020000
END:DAYLIGHT
END:VTIMEZONE
BEGIN:VEVENT
UID:4c2452ce-c221-4868-a6ed-06e111451c87
DTSTAMP:20260426T011959Z
DESCRIPTION:Our ReStore is closed in observance of Labor Day. ReStore is al
 ways closed the Tuesday following a Monday holiday.
DTSTART;TZID=America/New_York:20200908T000000
DTEND;TZID=America/New_York:20200908T235900
LOCATION:
SUMMARY:ReStore Closed
END:VEVENT
END:VCALENDAR
